BEGIN:VCALENDAR
VERSION:2.0
PRODID:-//Præstø Sejlklub - ECPv6.15.12.2//NONSGML v1.0//EN
CALSCALE:GREGORIAN
METHOD:PUBLISH
X-ORIGINAL-URL:https://psk.dk
X-WR-CALDESC:Begivenheder for Præstø Sejlklub
REFRESH-INTERVAL;VALUE=DURATION:PT1H
X-Robots-Tag:noindex
X-PUBLISHED-TTL:PT1H
BEGIN:VTIMEZONE
TZID:Europe/Copenhagen
BEGIN:DAYLIGHT
TZOFFSETFROM:+0100
TZOFFSETTO:+0200
TZNAME:CEST
DTSTART:20250330T010000
END:DAYLIGHT
BEGIN:STANDARD
TZOFFSETFROM:+0200
TZOFFSETTO:+0100
TZNAME:CET
DTSTART:20251026T010000
END:STANDARD
BEGIN:DAYLIGHT
TZOFFSETFROM:+0100
TZOFFSETTO:+0200
TZNAME:CEST
DTSTART:20260329T010000
END:DAYLIGHT
BEGIN:STANDARD
TZOFFSETFROM:+0200
TZOFFSETTO:+0100
TZNAME:CET
DTSTART:20261025T010000
END:STANDARD
BEGIN:DAYLIGHT
TZOFFSETFROM:+0100
TZOFFSETTO:+0200
TZNAME:CEST
DTSTART:20270328T010000
END:DAYLIGHT
BEGIN:STANDARD
TZOFFSETFROM:+0200
TZOFFSETTO:+0100
TZNAME:CET
DTSTART:20271031T010000
END:STANDARD
END:VTIMEZONE
BEGIN:VEVENT
DTSTART;TZID=Europe/Copenhagen:20260302T180000
DTEND;TZID=Europe/Copenhagen:20260302T200000
DTSTAMP:20260420T152624
CREATED:20260219T134039Z
LAST-MODIFIED:20260219T134039Z
UID:3274-1772474400-1772481600@psk.dk
SUMMARY:Bestyrelsesmøde
DESCRIPTION:Ordinært bestyrelsesmøde
URL:https://psk.dk/event/bestyrelsesmoede-3/
LOCATION:Dambæks\, Fjordstien 3\, Præstø\, Danmark\, 4720\, Denmark
CATEGORIES:Møder
ATTACH;FMTTYPE=image/png:https://psk.dk/wp-content/uploads/2025/08/moede.png
ORGANIZER;CN="Pr%C3%A6st%C3%B8 sejlklub":MAILTO:info@psk.dk
END:VEVENT
END:VCALENDAR