BEGIN:VCALENDAR
VERSION:2.0
PRODID:-//Præstø Sejlklub - ECPv6.15.12.2//NONSGML v1.0//EN
CALSCALE:GREGORIAN
METHOD:PUBLISH
X-WR-CALNAME:Præstø Sejlklub
X-ORIGINAL-URL:https://psk.dk
X-WR-CALDESC:Begivenheder for Præstø Sejlklub
REFRESH-INTERVAL;VALUE=DURATION:PT1H
X-Robots-Tag:noindex
X-PUBLISHED-TTL:PT1H
BEGIN:VTIMEZONE
TZID:Europe/Copenhagen
BEGIN:DAYLIGHT
TZOFFSETFROM:+0100
TZOFFSETTO:+0200
TZNAME:CEST
DTSTART:20250330T010000
END:DAYLIGHT
BEGIN:STANDARD
TZOFFSETFROM:+0200
TZOFFSETTO:+0100
TZNAME:CET
DTSTART:20251026T010000
END:STANDARD
BEGIN:DAYLIGHT
TZOFFSETFROM:+0100
TZOFFSETTO:+0200
TZNAME:CEST
DTSTART:20260329T010000
END:DAYLIGHT
BEGIN:STANDARD
TZOFFSETFROM:+0200
TZOFFSETTO:+0100
TZNAME:CET
DTSTART:20261025T010000
END:STANDARD
BEGIN:DAYLIGHT
TZOFFSETFROM:+0100
TZOFFSETTO:+0200
TZNAME:CEST
DTSTART:20270328T010000
END:DAYLIGHT
BEGIN:STANDARD
TZOFFSETFROM:+0200
TZOFFSETTO:+0100
TZNAME:CET
DTSTART:20271031T010000
END:STANDARD
END:VTIMEZONE
BEGIN:VEVENT
DTSTART;VALUE=DATE:20260821
DTEND;VALUE=DATE:20260824
DTSTAMP:20260419T220818
CREATED:20251218T154153Z
LAST-MODIFIED:20260209T142138Z
UID:3085-1787270400-1787529599@psk.dk
SUMMARY:Nyord tur
DESCRIPTION:Nyordtur\nSæt allerede nu kryds i kalenderen til Fællestur til Nyord 21 til 23 august 2026\nForsamlingshuset er booket og vi har lavet aftale med William Houmann som vil fortælle om Nyords historie og vise rundt på øen.\nI kan godt glæde jer\, han er en fantastisk fortæller.\nEndeligt program kommer senere.\nMed sejler hilsen\nTurudvalget\nBritta Olsen (Jonathan)\nCarsten Olsen (Maj)
URL:https://psk.dk/event/nyord-tur/
LOCATION:Nyord havn\, Nyord havnevej\, Stege\, 4790
CATEGORIES:Klub,Klub aktiviteter
ATTACH;FMTTYPE=image/jpeg:https://psk.dk/wp-content/uploads/2025/11/hygge-nyord-2-scaled.jpg
ORGANIZER;CN="PSK Turudvalg":MAILTO:info@psk.dk
END:VEVENT
END:VCALENDAR